BEGIN:VCALENDAR
VERSION:2.0
PRODID:-//jEvents 2.0 for Joomla//EN
CALSCALE:GREGORIAN
METHOD:PUBLISH
BEGIN:VEVENT
UID:886b47c572ecd6968e3bf1c40addc9bb
CATEGORIES:in-coop
CREATED:20251104T143008
SUMMARY:Sigweb Conferences - 16th International Conference on Cloud Computing and Services Science
LOCATION:Benidorm\, Spain
DESCRIPTION:The International Conference on Cloud Computing and Services Science (CLOSE
 R) focuses on the critical and rapidly evolving domain of cloud computing, 
 inspired by recent advances in infrastructure, operations, and available se
 rvices across the global network. The conference also emphasizes the import
 ance of Services Science, recognizing the service-oriented nature of most c
 ontemporary IT-driven collaborations. Rather than merely combining these tw
 o broad fields, CLOSER specifically addresses cloud computing while explori
 ng how Services Science can contribute theories, methods, and techniques to
  design, analyze, manage, market, and study its various aspects.\n\n
X-ALT-DESC;FMTTYPE=text/html:<p>The International Conference on Cloud Computing and Services Science (CL
 OSER) focuses on the critical and rapidly evolving domain of cloud computin
 g, inspired by recent advances in infrastructure, operations, and available
  services across the global network. The conference also emphasizes the imp
 ortance of Services Science, recognizing the service-oriented nature of mos
 t contemporary IT-driven collaborations. Rather than merely combining these
  two broad fields, CLOSER specifically addresses cloud computing while expl
 oring how Services Science can contribute theories, methods, and techniques
  to design, analyze, manage, market, and study its various aspects.</p><p><
 span id="ctl00_pageContent_ctl06_lblScope"></span></p>
CONTACT:https://closer.scitevents.org
DTSTAMP:20260421T154033
DTSTART;TZID=UTC;VALUE=DATE:20260519
DTEND;TZID=UTC;VALUE=DATE:20260522
SEQUENCE:0
TRANSP:OPAQUE
END:VEVENT
END:VCALENDAR