BEGIN:VCALENDAR
VERSION:2.0
PRODID:-//jEvents 2.0 for Joomla//EN
CALSCALE:GREGORIAN
METHOD:PUBLISH
BEGIN:VEVENT
UID:b540acf70de4ee837a1640707cf5e0b3
CATEGORIES:Conference
CREATED:20230210T094142
SUMMARY:Sigweb Conferences - 23rd ACM/IEEE Joint Conference on Digital Libraries (JCDL 2023)
LOCATION:Santa Fe (NM)\, USA
DESCRIPTION:The ACM/IEEE-CS Joint Conference on Digital Libraries (JCDL) (https://2023.
 jcdl.org/) is a major international forum focusing on digital libraries and
  associated technical, practical, and social issues. Participation is sough
 t from all parts of the world and from the full range of disciplines and pr
 ofessions involved in digital library research and practice, including comp
 uter science, information science, librarianship, archival science and prac
 tice, museum studies and practice, technology, medicine, social sciences, a
 nd humanities. Besides the main conference, JCDL 2023 will host specialized
  workshops, tutorials, panels, and a doctoral consortium. All domains–acade
 mics, government, industry, and others–are encouraged to participate as pre
 senters or attendees. \n
X-ALT-DESC;FMTTYPE=text/html:<p><a href="https://2023.jcdl.org/">The ACM/IEEE-CS Joint Conference on Dig
 ital Libraries (JCDL)</a> is a major international forum focusing on digita
 l libraries and associated technical, practical, and social issues. Partici
 pation is sought from all parts of the world and from the full range of dis
 ciplines and professions involved in digital library research and practice,
  including computer science, information science, librarianship, archival s
 cience and practice, museum studies and practice, technology, medicine, soc
 ial sciences, and humanities. Besides the main conference, JCDL 2023 will h
 ost specialized workshops, tutorials, panels, and a doctoral consortium. Al
 l domains–academics, government, industry, and others–are encouraged to par
 ticipate as presenters or attendees. </p>
CONTACT:https://2023.jcdl.org/
DTSTAMP:20260421T005421
DTSTART;TZID=UTC;VALUE=DATE:20230626
DTEND;TZID=UTC;VALUE=DATE:20230701
SEQUENCE:0
TRANSP:OPAQUE
END:VEVENT
END:VCALENDAR