BEGIN:VCALENDAR
VERSION:2.0
PRODID:-//jEvents 2.0 for Joomla//EN
CALSCALE:GREGORIAN
METHOD:PUBLISH
BEGIN:VEVENT
UID:452e4f79b56c98f7e8e9ac50a12d68be
CATEGORIES:Conference
CREATED:20230210T094025
SUMMARY:Sigweb Conferences - 31st ACM International Conference on User Modeling, Adaption and Personalization (UMAP 2023)
LOCATION:Limassol\, Cyprus
DESCRIPTION:ACM UMAP (http://www.um.org/umap2023/) is the premier international confere
 nce for researchers and practitioners working on systems that adapt to indi
 vidual users, to groups of users, and that collect, represent, and model us
 er information. ACM UMAP is the successor to the biennial User Modeling (UM
 ) and Adaptive Hypermedia and Adaptive Web-based Systems (AH) conferences t
 hat were merged in 2009. It is sponsored by ACM SIGCHI and SIGWEB, and orga
 nized with User Modeling Inc. as the Steering Committee. The proceedings ar
 e published by ACM and will be part of the ACM Digital Library. \n
X-ALT-DESC;FMTTYPE=text/html:<p><a href="http://www.um.org/umap2023/">ACM UMAP</a> is the premier intern
 ational conference for researchers and practitioners working on systems tha
 t adapt to individual users, to groups of users, and that collect, represen
 t, and model user information. ACM UMAP is the successor to the biennial Us
 er Modeling (UM) and Adaptive Hypermedia and Adaptive Web-based Systems (AH
 ) conferences that were merged in 2009. It is sponsored by ACM SIGCHI and S
 IGWEB, and organized with User Modeling Inc. as the Steering Committee. The
  proceedings are published by ACM and will be part of the ACM Digital Libra
 ry. </p>
CONTACT:http://www.um.org/umap2023/ (http://www.um.org/umap2023/)
DTSTAMP:20260421T005049
DTSTART;TZID=UTC;VALUE=DATE:20230626
DTEND;TZID=UTC;VALUE=DATE:20230630
SEQUENCE:0
TRANSP:OPAQUE
END:VEVENT
END:VCALENDAR