BEGIN:VCALENDAR
VERSION:2.0
PRODID:-//jEvents 2.0 for Joomla//EN
CALSCALE:GREGORIAN
METHOD:PUBLISH
BEGIN:VEVENT
UID:54949ac70392147c6ca14e76a2389536
CATEGORIES:in-coop
CREATED:20240722T111150
SUMMARY:Sigweb Conferences - ACM International Conference on Interactive Media Experiences (IMX 2024)
LOCATION:Stockholm\, Sweden
DESCRIPTION:<p>The ACM International Conference on Interactive Media Experiences (IMX) 
 is the leading international conference for presentation and discussion of 
 research into interactive media experiences. It brings together researchers
  and practitioners from a wide range of disciplines, from human-computer in
 teraction, multimedia engineering and design, to media studies, media psych
 ology and sociology.</p>
CONTACT:https://imx.acm.org/2024/
DTSTAMP:20260421T185351
DTSTART;TZID=UTC;VALUE=DATE:20240612
DTEND;TZID=UTC;VALUE=DATE:20240615
SEQUENCE:0
TRANSP:OPAQUE
END:VEVENT
END:VCALENDAR