BEGIN:VCALENDAR
VERSION:2.0
PRODID:-//jEvents 2.0 for Joomla//EN
CALSCALE:GREGORIAN
METHOD:PUBLISH
BEGIN:VEVENT
UID:5edee0ee4f7b16ba29e2b98e0360b5a2
CATEGORIES:Conference
CREATED:20240506T094640
SUMMARY:Sigweb Conferences - ACM International Conference on Web Search and Data Mining (WSDM 2025)
LOCATION:Hannover\, Germany
DESCRIPTION:<div class="h-column h-column-container d-flex h-col-lg-6 h-col-md-12 h-col
 -12 align-self-lg-center align-self-md-center align-self-center style-485-o
 uter style-local-78-c27-outer"><div class="d-flex h-flex-basis h-column__in
 ner h-px-lg-2 h-px-md-2 h-px-2 v-inner-lg-2 v-inner-md-2 v-inner-2 style-48
 5 style-local-78-c27 position-relative" data-colibri-id="78-c27"><div class
 ="w-100 h-y-container h-column__content h-column__v-align flex-basis-100 al
 ign-self-lg-start align-self-md-start align-self-start"><div class="d-block
  style-487 style-local-78-c28 h-hide-sm position-relative h-element" data-c
 olibri-id="78-c28"><div class="h-image__frame-container-outer"><p class="h-
 image__frame-container">WSDM is a highly selective conference that includes
  invited talks, as well as refereed full papers. WSDM publishes original, h
 igh-quality papers related to search and data mining on the Web and the Soc
 ial Web, with an emphasis on practical yet principled novel models of searc
 h and data mining, algorithm design and analysis, economic implications, an
 d in-depth experimental analysis of accuracy and performance. <br /><br />W
 SDM 2025 will take place in Hannover, the capital of the German state of Lo
 wer Saxony. </p></div></div></div></div></div>
CONTACT:https://www.wsdm-conference.org/2025/
DTSTAMP:20260419T183736
DTSTART;TZID=UTC;VALUE=DATE:20250310
DTEND;TZID=UTC;VALUE=DATE:20250315
SEQUENCE:0
TRANSP:OPAQUE
END:VEVENT
END:VCALENDAR