BEGIN:VCALENDAR
VERSION:2.0
PRODID:-//jEvents 2.0 for Joomla//EN
CALSCALE:GREGORIAN
METHOD:PUBLISH
BEGIN:VEVENT
UID:d68203b414474b215a4e8481cef5ca9c
CATEGORIES:in-coop
CREATED:20231211T111343
SUMMARY:Sigweb Conferences - 21st International Web for AII Conference (W4A 2024)
LOCATION:Singapore
DESCRIPTION:W4A focuses on all aspects of web accessibility. Areas of general interest 
 include, but are not limited to the following: age, cognition, culture, edu
 cation, emotions, dexterity, disability, diversity, health, hearing, income
 , infrastructure, language, learning, literacy, mobility, neurodiversity, s
 ituation, society, and vision. In 2024, W4A's theme is “Artificial Intellig
 ence (AI) for Accessibility”.\n
X-ALT-DESC;FMTTYPE=text/html:<p>W4A focuses on all aspects of web accessibility. Areas of general intere
 st include, but are not limited to the following: age, cognition, culture, 
 education, emotions, dexterity, disability, diversity, health, hearing, inc
 ome, infrastructure, language, learning, literacy, mobility, neurodiversity
 , situation, society, and vision. In 2024, W4A's theme is “Artificial Intel
 ligence (AI) for Accessibility”.</p>
CONTACT:http://www.w4a.info/2024/ (http://www.w4a.info/2024/)
DTSTAMP:20260419T151606
DTSTART;TZID=UTC;VALUE=DATE:20240513
DTEND;TZID=UTC;VALUE=DATE:20240515
SEQUENCE:0
TRANSP:OPAQUE
END:VEVENT
END:VCALENDAR