BEGIN:VCALENDAR
VERSION:2.0
PRODID:-//jEvents 2.0 for Joomla//EN
CALSCALE:GREGORIAN
METHOD:PUBLISH
BEGIN:VEVENT
UID:4a469fc7b9f86bebb959af466dac3a46
CATEGORIES:in-coop
CREATED:20230525T114119
SUMMARY:Sigweb Conferences - WebMedia 2023
LOCATION:Ribeirão Preto\, Brazil
DESCRIPTION:Held annually by the Brazilian Computing Society (SBC), the Brazilian Sympo
 sium on Multimedia and Web Systems (WebMedia) is the main event on the subj
 ect in Brazil and an excellent opportunity for scientific and technical exc
 hanges between students, researchers and professionals in the areas of Mult
 imedia, Hypermedia and the Web. In 2023 we will be celebrating the 29th edi
 tion of WebMedia, jointly organized by two units of the University of São P
 aulo (USP): the Faculty of Philosophy, Sciences and Letters of Riberão Pret
 o (FFCLRP) and the Institute of Mathematical and Computer Sciences (ICMC).\
 n
X-ALT-DESC;FMTTYPE=text/html:<p><span class="VIpgJd-yAWNEb-VIpgJd-fmcmS-sn54Q">Held annually by the Braz
 ilian Computing Society (SBC), the Brazilian Symposium on Multimedia and We
 b Systems (WebMedia) is the main event on the subject in Brazil and an exce
 llent opportunity for scientific and technical exchanges between students, 
 researchers and professionals in the areas of Multimedia, Hypermedia and th
 e Web. </span>In 2023 we will be celebrating the 29th edition of WebMedia, 
 jointly organized by two units of the University of São Paulo (USP): the Fa
 culty of Philosophy, Sciences and Letters of Riberão Preto (FFCLRP) and the
  Institute of Mathematical and Computer Sciences (ICMC).</p>
CONTACT:https://webmedia.org.br/2023/
DTSTAMP:20260420T151641
DTSTART;TZID=UTC;VALUE=DATE:20231023
DTEND;TZID=UTC;VALUE=DATE:20231028
SEQUENCE:0
TRANSP:OPAQUE
END:VEVENT
END:VCALENDAR