BEGIN:VCALENDAR
VERSION:2.0
PRODID:-//jEvents 2.0 for Joomla//EN
CALSCALE:GREGORIAN
METHOD:PUBLISH
BEGIN:VEVENT
UID:1ec2f91ef3603fa9b77b699f49f12c6f
CATEGORIES:in-coop
CREATED:20230522T161419
SUMMARY:Sigweb Conferences - ACM International Conference on Interactive Media Experiences (IMX 2023)
LOCATION:Nantes\, France
DESCRIPTION:IMX is the leading international conference for presentation and discussion
  of research into interactive media experiences. The conference brings toge
 ther international researchers and practitioners from a wide range of disci
 plines, ranging from human-computer interaction, multimedia engineering and
  design to media studies, media psychology and sociology. IMX focuses on ch
 allenges and innovations across diverse forms of media engagement and exper
 iences. The aim is to provoke and promote discussion and the sharing of exc
 iting ideas amongst researchers, industry practitioners and the academic co
 mmunity in all forms of media: VR, AR, MR, XR, 360°, live-streaming, online
  media content, authoring and production, as well as TV. We encourage autho
 rs to submit their novel research findings in analyzing, developing, creati
 ng, installing, evaluating, critiquing or distributing interactive media ex
 periences.\n
X-ALT-DESC;FMTTYPE=text/html:<p class="western" lang="en-GB" align="justify">IMX is the leading internat
 ional conference for presentation and discussion of research into interacti
 ve media experiences. The conference brings together international research
 ers and practitioners from a wide range of disciplines, ranging from human-
 computer interaction, multimedia engineering and design to media studies, m
 edia psychology and sociology. IMX focuses on challenges and innovations ac
 ross diverse forms of media engagement and experiences. The aim is to provo
 ke and promote discussion and the sharing of exciting ideas amongst researc
 hers, industry practitioners and the academic community in all forms of med
 ia: VR, AR, MR, XR, 360°, live-streaming, online media content, authoring a
 nd production, as well as TV. We encourage authors to submit their novel re
 search findings in analyzing, developing, creating, installing, evaluating,
  critiquing or distributing interactive media experiences.</p>
CONTACT:https://imx.acm.org/2023/
DTSTAMP:20260420T170728
DTSTART;TZID=UTC;VALUE=DATE:20230613
DTEND;TZID=UTC;VALUE=DATE:20230616
SEQUENCE:0
TRANSP:OPAQUE
END:VEVENT
END:VCALENDAR