BEGIN:VCALENDAR
VERSION:2.0
PRODID:-//jEvents 2.0 for Joomla//EN
CALSCALE:GREGORIAN
METHOD:PUBLISH
BEGIN:VEVENT
UID:d05c7f3993039c13a143ab5892e59d8b
CATEGORIES:Conference
CREATED:20230522T160749
SUMMARY:Sigweb Conferences - 32nd ACM International Conference on Information and Knowledge Management (CIKM 2023)
LOCATION:Birmingham\, UK
DESCRIPTION:<p class="western" lang="en-AU" align="justify"><span style="color: #222222
 ;"><span style="font-family: Times new Roman, serif;"><span style="font-siz
 e: medium;">The Conference on Information and Knowledge Management (CIKM) p
 rovides an international forum for presentation and discussion of research 
 on information and knowledge management, as well as recent advances on data
  and knowledge bases. The purpose of the conference is to identify challeng
 ing problems facing the development of future knowledge and information sys
 tems, and to shape future directions of research by soliciting and reviewin
 g high quality, applied and theoretical research findings. An important par
 t of the conference is the Workshops program which focuses on timely resear
 ch challenges and initiatives. CIKM has a strong tradition of workshops dev
 oted to emerging areas of database management, IR, and related fields.</spa
 n></span></span></p>
CONTACT:http://www.cikm2023.org/ (http://www.cikm2023.org/)
DTSTAMP:20260420T102717
DTSTART;TZID=UTC;VALUE=DATE:20231021
DTEND;TZID=UTC;VALUE=DATE:20231026
SEQUENCE:0
TRANSP:OPAQUE
END:VEVENT
END:VCALENDAR