BEGIN:VCALENDAR
VERSION:2.0
PRODID:-//jEvents 2.0 for Joomla//EN
CALSCALE:GREGORIAN
METHOD:PUBLISH
BEGIN:VEVENT
UID:5abbdcdd01ff3d747a821b137d471889
CATEGORIES:Conference
CREATED:20230522T160618
SUMMARY:Sigweb Conferences - 23rd ACM Symposium on Document Engineering (DocEng 2023)
LOCATION:Limerick\, Ireland
DESCRIPTION:<p class="western" lang="en-AU" align="justify"><span style="color: #222222
 ;"><span style="font-family: Times new Roman, serif;"><span style="font-siz
 e: medium;">The 23rd ACM Symposium on Document Engineering (DocEng'23) seek
 s original research papers that focus on the design, implementation, develo
 pment, management, use and evaluation of advanced systems where documents a
 nd document collections play a key role. DocEng emphasizes innovative appro
 aches to document engineering technology, use of documents and document col
 lections in real-world applications, and novel principles, tools and proces
 ses that improve our ability to create, manage, maintain, share, and produc
 tively use these. In particular, DocEng'23 seeks contributions in the area 
 of cooperative work with documents.</span></span></span></p>
CONTACT:https://doceng.org/doceng2023
DTSTAMP:20260420T154052
DTSTART;TZID=UTC;VALUE=DATE:20230822
DTEND;TZID=UTC;VALUE=DATE:20230826
SEQUENCE:0
TRANSP:OPAQUE
END:VEVENT
END:VCALENDAR