BEGIN:VCALENDAR
VERSION:2.0
PRODID:-//jEvents 2.0 for Joomla//EN
CALSCALE:GREGORIAN
METHOD:PUBLISH
BEGIN:VEVENT
UID:b36d407cc16bd401cda2a57b9645763b
CATEGORIES:in-coop
CREATED:20230221T102229
SUMMARY:Sigweb Conferences - 19th International Conference on Web Information Systems and Technologies (WEBIST 2023)
LOCATION:Rome\, Italy
DESCRIPTION:The purpose of the International Conference on Web Information Systems and 
 Technologies (WEBIST) is to bring together researchers, engineers and pract
 itioners interested in the technological advances and business applications
  of web-based information systems. The conference has four main tracks, cov
 ering different aspects of Web Information Systems, namely Internet Technol
 ogy, Web Intelligence and Semantic Web, Social Network Analytics, HCI in Mo
 bile Systems and Web Interfaces.\n\nWEBIST focuses on real world applicatio
 ns; therefore authors should highlight the benefits of Web Information Syst
 ems and Technologies for industry and services, in addition to academic app
 lications. Ideas on how to solve business problems using web-based informat
 ion systems and technologies, will be discussed at the conference.\n
X-ALT-DESC;FMTTYPE=text/html:<p>The purpose of the International Conference on Web Information Systems a
 nd Technologies (WEBIST) is to bring together researchers, engineers and pr
 actitioners interested in the technological advances and business applicati
 ons of web-based information systems. The conference has four main tracks, 
 covering different aspects of Web Information Systems, namely Internet Tech
 nology, Web Intelligence and Semantic Web, Social Network Analytics, HCI in
  Mobile Systems and Web Interfaces.<br /><br />WEBIST focuses on real world
  applications; therefore authors should highlight the benefits of Web Infor
 mation Systems and Technologies for industry and services, in addition to a
 cademic applications. Ideas on how to solve business problems using web-bas
 ed information systems and technologies, will be discussed at the conferenc
 e.</p>
CONTACT:https://webist.scitevents.org/
DTSTAMP:20260420T152722
DTSTART;TZID=UTC;VALUE=DATE:20231115
DTEND;TZID=UTC;VALUE=DATE:20231118
SEQUENCE:0
TRANSP:OPAQUE
END:VEVENT
END:VCALENDAR