BEGIN:VCALENDAR
VERSION:2.0
PRODID:-//jEvents 2.0 for Joomla//EN
CALSCALE:GREGORIAN
METHOD:PUBLISH
BEGIN:VEVENT
UID:fbd3c033df29f3495aac74d923209c6a
CATEGORIES:in-coop
CREATED:20230221T102058
SUMMARY:Sigweb Conferences - 4th International Conference on Web Studies (WS 4)
LOCATION: Mexico City
DESCRIPTION:<p><strong>WS.4:</strong><br /><strong>Screens: Moving, Displaying, and Dis
 rupting the Web</strong></p><p>The international conference on Web Studies 
 is a multidisciplinary peer-reviewed scientific gathering that investigates
  the World Wide Web as an object of inquiry. It conceives the Web as an exp
 ansive entity: an extended space that reaches every domain of life. Seen fr
 om different perspectives and disciplines, the components of the Web can be
  seized as data structures, algorithmic processes, visual surface, cultural
  uses, or artistic expressions.</p><p>Web Studies was initiated in 2010; WS
 .1 was organized at Tecnológico de Monterrey (Toluca, Mexico). In 2018, the
  second edition, WS.2, took place in Paris (MSH Paris Nord), in cooperation
  with <a href="https://www.sigweb.org/">ACM SIGWEB</a>. The third edition o
 f the international conference, WS.3, was co-organized with Université de l
 a Manouba, Tunisia, and took place online.<br />The fourth edition will tak
 e place at the Tecnológico de Monterrey Campus Ciudad de México, in Mexico 
 City.</p>
CONTACT:https://ereyes.github.io/ws4/
DTSTAMP:20260420T170537
DTSTART;TZID=UTC;VALUE=DATE:20231030
DTEND;TZID=UTC;VALUE=DATE:20231101
SEQUENCE:0
TRANSP:OPAQUE
END:VEVENT
END:VCALENDAR