BEGIN:VCALENDAR
VERSION:2.0
PRODID:-//jEvents 2.0 for Joomla//EN
CALSCALE:GREGORIAN
METHOD:PUBLISH
BEGIN:VEVENT
UID:4a958d269eb31b31c515341b50a8a61a
CATEGORIES:in-coop
CREATED:20230221T100144
SUMMARY:Sigweb Conferences - The 27th International Database Engineered Applications Symposium
LOCATION:Heraklion\, Greece
DESCRIPTION:The aim of the IDEAS-II series of symposiums is to address the engineered a
 nd application aspects of data regardless of the database models.\nThe symp
 osium provides an international forum for discussion of the problems of eng
 ineering data drivend systems involving not only database technology but th
 e related areas of artfical inteligence, communication, information retriev
 al, human machine interface, multimedia, NLP, privacy, security and others.
  The goal of IDEAS is to foster closer interaction among the industrial, re
 search and user communities and provides an excellent opportunity for them 
 to meet, discuss ideas, examine the current ones and develop new solutions 
 and research directions. Along with the technical sessions, the symposium a
 lso features prominent invited speakers.\nIDEAS series of symposiums are sc
 heduled annually and have been held since 1997 in North America, Europe and
  Asia. It has attracted participants from governmental and non-governmental
  agencies, industries, and academia to exchange ideas and share experiences
 .\n
X-ALT-DESC;FMTTYPE=text/html:<p>The aim of the IDEAS-II series of symposiums is to address the <b>engine
 ered and application</b> aspects of data regardless of the database models.
 </p><p>The symposium provides an international forum for discussion of the 
 problems of engineering data drivend systems involving not only database te
 chnology but the related areas of artfical inteligence, communication, info
 rmation retrieval, human machine interface, multimedia, NLP, privacy, secur
 ity and others. The goal of IDEAS is to foster closer interaction among the
  industrial, research and user communities and provides an excellent opport
 unity for them to meet, discuss ideas, examine the current ones and develop
  new solutions and research directions. Along with the technical sessions, 
 the symposium also features prominent invited speakers.</p><p>IDEAS series 
 of symposiums are scheduled annually and have been held since 1997 in North
  America, Europe and Asia. It has attracted participants from governmental 
 and non-governmental agencies, industries, and academia to exchange ideas a
 nd share experiences.</p>
CONTACT:https://conferences.sigappfr.org/ideas2023/
DTSTAMP:20260421T015318
DTSTART;TZID=UTC;VALUE=DATE:20230505
DTEND;TZID=UTC;VALUE=DATE:20230508
SEQUENCE:0
TRANSP:OPAQUE
END:VEVENT
END:VCALENDAR