BEGIN:VCALENDAR
VERSION:2.0
PRODID:-//jEvents 2.0 for Joomla//EN
CALSCALE:GREGORIAN
METHOD:PUBLISH
BEGIN:VEVENT
UID:ea67e0f05ecafe3af03948aca6fe09d9
CATEGORIES:in-coop
CREATED:20230221T095521
SUMMARY:Sigweb Conferences - 17th ACM Conference on Recommender Systems (RecSys 2023)
LOCATION:Singapore
DESCRIPTION:The ACM Conference on Recommender Systems (RecSys) is the premier internati
 onal forum for the presentation of new research results, systems and techni
 ques in the broad field of recommender systems. RecSys brings together the 
 major international research groups working on recommender systems, along w
 ith many of the world’s leading companies active in e-commerce and other ad
 jacent domains. It has become the most important annual conference for the 
 presentation and discussion of recommender systems research. RecSys 2023, t
 he seventeenth conference in this series, will be held in Singapore. It wil
 l bring together researchers and practitioners from academia and industry t
 o present their latest results and identify new trends and challenges in pr
 oviding recommendation components in a range of innovative application cont
 exts. In addition to the main technical track, the RecSys 2023 program will
  feature keynote and invited talks, tutorials covering state-of-the-art in 
 this domain, a workshop program, an industrial track and a doctoral symposi
 um.\n
X-ALT-DESC;FMTTYPE=text/html:<p>The ACM Conference on Recommender Systems (RecSys) is the premier intern
 ational forum for the presentation of new research results, systems and tec
 hniques in the broad field of recommender systems. RecSys brings together t
 he major international research groups working on recommender systems, alon
 g with many of the world’s leading companies active in e-commerce and other
  adjacent domains. It has become the most important annual conference for t
 he presentation and discussion of recommender systems research. RecSys 2023
 , the seventeenth conference in this series, will be held in Singapore. It 
 will bring together researchers and practitioners from academia and industr
 y to present their latest results and identify new trends and challenges in
  providing recommendation components in a range of innovative application c
 ontexts. In addition to the main technical track, the RecSys 2023 program w
 ill feature keynote and invited talks, tutorials covering state-of-the-art 
 in this domain, a workshop program, an industrial track and a doctoral symp
 osium.</p>
CONTACT:https://recsys.acm.org/recsys23/
DTSTAMP:20260420T153850
DTSTART;TZID=UTC;VALUE=DATE:20230918
DTEND;TZID=UTC;VALUE=DATE:20230923
SEQUENCE:0
TRANSP:OPAQUE
END:VEVENT
END:VCALENDAR