BEGIN:VCALENDAR
VERSION:2.0
PRODID:-//jEvents 2.0 for Joomla//EN
CALSCALE:GREGORIAN
METHOD:PUBLISH
BEGIN:VEVENT
UID:1da70b70edcd129171cf971dcbe38e8e
CATEGORIES:in-coop
CREATED:20251104T171003
SUMMARY:Sigweb Conferences - 16th International Learning Analytics & Knowledge Conference
LOCATION:Bergen\, Norway
DESCRIPTION:<p>The International Learning Analytics &amp; Knowledge Conference (LAK) br
 ings together researchers and practitioners to explore advances in learning
  analytics, educational data mining, and human-AI collaboration. In 2026, L
 AK will celebrate 16 years of conferences, continuing to foster a vibrant, 
 interdisciplinary community shaping the future of data-informed education. 
 The event is organized by the Society for Learning Analytics Research (SoLA
 R) and hosted by the University of Bergen, Norway.</p>
CONTACT:https://www.solaresearch.org/events/lak/lak26/
DTSTAMP:20260419T224303
DTSTART;TZID=UTC;VALUE=DATE:20260427
DTEND;TZID=UTC;VALUE=DATE:20260502
SEQUENCE:0
TRANSP:OPAQUE
END:VEVENT
END:VCALENDAR