BEGIN:VCALENDAR
VERSION:2.0
PRODID:-//jEvents 2.0 for Joomla//EN
CALSCALE:GREGORIAN
METHOD:PUBLISH
BEGIN:VEVENT
UID:50abdd888741587e3f72717af4ae0f35
CATEGORIES:in-coop
CREATED:20251104T141040
SUMMARY:Sigweb Conferences - ACM Conference on Recommender Systems 2026
LOCATION:Minneapolis\, USA
DESCRIPTION:The ACM Conference on Recommender Systems (RecSys) is the premier internati
 onal forum for the presentation of new research results, systems and techni
 ques in the broad field of recommender systems. RecSys brings together the 
 major international research groups working on recommender systems, along w
 ith many of the world’s leading companies active in e-commerce and other ad
 jacent domains. It has become the most important annual conference for the 
 presentation and discussion of recommender systems research.\n
X-ALT-DESC;FMTTYPE=text/html:<p>The ACM Conference on Recommender Systems (RecSys) is the premier intern
 ational forum for the presentation of new research results, systems and tec
 hniques in the broad field of recommender systems. RecSys brings together t
 he major international research groups working on recommender systems, alon
 g with many of the world’s leading companies active in e-commerce and other
  adjacent domains. It has become the most important annual conference for t
 he presentation and discussion of recommender systems research.</p>
CONTACT:https://recsys.acm.org/recsys26
DTSTAMP:20260420T073638
DTSTART;TZID=UTC;VALUE=DATE:20260928
DTEND;TZID=UTC;VALUE=DATE:20261003
SEQUENCE:0
TRANSP:OPAQUE
END:VEVENT
END:VCALENDAR