BEGIN:VCALENDAR
VERSION:2.0
PRODID:-//jEvents 2.0 for Joomla//EN
CALSCALE:GREGORIAN
METHOD:PUBLISH
BEGIN:VEVENT
UID:c6ac08638ac6456f99c4d54c260d3261
CATEGORIES:Conference
CREATED:20251104T140649
SUMMARY:Sigweb Conferences - The ACM Web Conference 2026
LOCATION:Dubai\, United Arab Emirates
DESCRIPTION:<p>Since its inception in 1989, the World Wide Web has transformed the way 
 we live, work, and connect. The Web Conference (formerly known as the Inter
 national World Wide Web Conference, abbreviated WWW) has been the premier a
 nnual forum for presenting and discussing advances in research, development
 , standards, and applications shaping the future of the Web.</p><p>The 2026
  ACM Web Conference will feature a high-quality program including research 
 sessions, posters and demonstrations, a PhD symposium for junior scholars, 
 workshops, tutorials, an industry track for practitioners, as well as thoug
 ht-provoking keynote speakers, panels, special tracks, and a co-located con
 ference (Web4All, <a href="https://www.w4a.info/2026/" target="_blank" rel=
 "noopener">https://www.w4a.info/2026/</a>). </p><p><strong>Important update
  (March 10):</strong> In light of the current situation and ongoing develop
 ments in the region, the conference will not take place as originally sched
 uled on April 13–17, 2026 in Dubai. The steering committee is currently exp
 loring alternative dates toward the end of June and will decide by May whet
 her the conference will be held in person, if the situation allows, or remo
 tely. Readers are encouraged to check the official conference website for t
 he latest updates.</p><p> </p>
CONTACT:https://www2026.thewebconf.org/
DTSTAMP:20260419T201304
DTSTART;TZID=UTC;VALUE=DATE:20260413
DTEND;TZID=UTC;VALUE=DATE:20260418
SEQUENCE:0
TRANSP:OPAQUE
END:VEVENT
END:VCALENDAR