BEGIN:VCALENDAR
VERSION:2.0
PRODID:-//jEvents 2.0 for Joomla//EN
CALSCALE:GREGORIAN
METHOD:PUBLISH
BEGIN:VEVENT
UID:8846dd000e6802c5ce81648e80ede2c7
CATEGORIES:Conference
CREATED:20251104T131355
SUMMARY:Sigweb Conferences - 34th ACM International Conference on User Modeling, Adaptation and Personalization
LOCATION:Gothenburg\, Sweden
DESCRIPTION:<p>ACM UMAP is the premier international conference bringing together resea
 rch in AI and HCI to support effective human-AI collaboration via interacti
 ve systems that can model, adapt and personalize to users. It continues the
  legacy of the <i>User Modeling (UM)</i> and <i>Adaptive Hypermedia (AH)</i
 > conferences and is sponsored by <span class="s1">ACM SIGCHI</span> and<st
 rong> </strong><span class="s1">SIGWEB</span><strong>,</strong> with procee
 dings published in the <span class="s1">ACM Digital Library</span>.</p>
CONTACT:https://www.um.org/umap2026/
DTSTAMP:20260420T071506
DTSTART;TZID=UTC;VALUE=DATE:20260608
DTEND;TZID=UTC;VALUE=DATE:20260612
SEQUENCE:0
TRANSP:OPAQUE
END:VEVENT
END:VCALENDAR