BEGIN:VCALENDAR
VERSION:2.0
PRODID:-//jEvents 2.0 for Joomla//EN
CALSCALE:GREGORIAN
METHOD:PUBLISH
BEGIN:VEVENT
UID:1154ce8b178adb41162d4724d81fb254
CATEGORIES:Conference
CREATED:20251104T130706
SUMMARY:Sigweb Conferences - 19th ACM International Conference on Web Search and Data Mining
LOCATION:Boise\, Idaho\, USA
DESCRIPTION:<p><span style="font-weight: 400; font-size: 17.12px; font-family: Arial, '
 Helvetica Neue', Helvetica, sans-serif; color: #46707f;">The ACM Internatio
 nal Conference on Web Search and Data Mining (WSDM) is one of the premier c
 onferences on web-inspired research involving search and data mining. It is
  a highly selective conference that includes invited talks, as well as refe
 reed full papers. WSDM (pronounced “wisdom”) publishes original, high-quali
 ty papers related to search and data mining on the Web and the Social Web, 
 with an emphasis on practical yet principled novel models of search and dat
 a mining, algorithm design and analysis, economic implications, and in-dept
 h experimental analysis of accuracy and performance. In 2026, WSDM will be 
 held in Boise, Idaho, USA.</span></p>
CONTACT:https://wsdm-conference.org/2026/
DTSTAMP:20260421T123610
DTSTART;TZID=UTC;VALUE=DATE:20260222
DTEND;TZID=UTC;VALUE=DATE:20260227
SEQUENCE:0
TRANSP:OPAQUE
END:VEVENT
END:VCALENDAR