BEGIN:VCALENDAR
VERSION:2.0
PRODID:-//jEvents 2.0 for Joomla//EN
CALSCALE:GREGORIAN
METHOD:PUBLISH
BEGIN:VEVENT
UID:114082f21723fd2ad3503b4a6eba4edd
CATEGORIES:Conference
CREATED:20251104T125405
SUMMARY:Sigweb Conferences - 26th ACM Symposium on Document Engineering
LOCATION:Fribourg\, Switzerland
DESCRIPTION:<p>The 26<sup>th</sup> ACM Symposium on Document Engineering (DocEng'26) se
 eks original research papers that advance the state of the art in computati
 onal creation and processing of documents as structured, multifaceted infor
 mation objects. The notion of document covers text, images, equations, tabl
 es, diagrams, musical scores and other notations, both in current and histo
 rical documents. DocEng focuses on the principles, models, technologies, an
 d tools that enable the design, creation, processing, transformation, manag
 ement, and use of documents and document collections. This includes aspects
  of security, interoperability, reliability, accessibility, and human facto
 rs in this field.</p><p>Attendees at this international forum share an inte
 rest in treating documents as engineered artifacts that underpin trustworth
 y communication, effective knowledge exchange, cultural preservation, and i
 nnovation across diverse domains. In 2026, ACM DocEng will be held in Fribo
 urg, Switzerland.</p>
CONTACT:https://doceng.org/doceng2026
DTSTAMP:20260420T090704
DTSTART;TZID=UTC;VALUE=DATE:20260825
DTEND;TZID=UTC;VALUE=DATE:20260829
SEQUENCE:0
TRANSP:OPAQUE
END:VEVENT
END:VCALENDAR