BEGIN:VCALENDAR
VERSION:2.0
PRODID:-//jEvents 2.0 for Joomla//EN
CALSCALE:GREGORIAN
METHOD:PUBLISH
BEGIN:VEVENT
UID:805e758af917e4d1ff6da900a40e3ff1
CATEGORIES:Conference
CREATED:20240913T141135
SUMMARY:Sigweb Conferences - 36th ACM Hypertext Conference (HT 2025)
LOCATION:Chicago\, USA
DESCRIPTION:<p>The ACM Hypertext Conference is a premium venue for high quality peer-re
 viewed research on hypertext theory, systems, applications, publishing, art
 work and related practices. It is concerned with all aspects of modern hype
 rtext research including social and intelligent media, narrative systems an
 d applications, authoring, reading and publishing hypertext, workflows and 
 infrastructures as well as reflections and approaches.</p>
CONTACT:https://ht.acm.org/ht2025/
DTSTAMP:20260422T011745
DTSTART;TZID=UTC;VALUE=DATE:20250915
DTEND;TZID=UTC;VALUE=DATE:20250920
SEQUENCE:0
TRANSP:OPAQUE
END:VEVENT
END:VCALENDAR