BEGIN:VCALENDAR
VERSION:2.0
PRODID:-//jEvents 2.0 for Joomla//EN
CALSCALE:GREGORIAN
METHOD:PUBLISH
BEGIN:VEVENT
UID:2d1fe46d49b145d00a2eb460758c8985
CATEGORIES:Conference
CREATED:20240913T140122
SUMMARY:Sigweb Conferences - 34th ACM International Conference on Information and Knowledge Management (CIKM 2025)
LOCATION:Coex\, Seoul\, Korea
DESCRIPTION:The Conference on Information and Knowledge Management (CIKM) provides an i
 nternational forum for presentation and discussion of research on informati
 on and knowledge management, as well as recent advances on data and knowled
 ge bases. The purpose of the conference is to identify challenging problems
  facing the development of future knowledge and information systems, and to
  shape future directions of research by soliciting and reviewing high quali
 ty, applied and theoretical research findings. An important part of the con
 ference is the Workshops program, which focuses on timely research challeng
 es and initiatives. CIKM has a strong tradition of workshops devoted to eme
 rging areas of database management, IR, and related fields.\n
X-ALT-DESC;FMTTYPE=text/html:<p><span style="font-family: Arial, 'Helvetica Neue', Helvetica, sans-serif
 ; font-size: 17.12px; text-align: left;">The Conference on Information and 
 Knowledge Management (CIKM) provides an international forum for presentatio
 n and discussion of research on information and knowledge management, as we
 ll as recent advances on data and knowledge bases. The purpose of the confe
 rence is to identify challenging problems facing the development of future 
 knowledge and information systems, and to shape future directions of resear
 ch by soliciting and reviewing high quality, applied and theoretical resear
 ch findings. An important part of the conference is the Workshops program, 
 which focuses on timely research challenges and initiatives. CIKM has a str
 ong tradition of workshops devoted to emerging areas of database management
 , IR, and related fields.</span></p>
CONTACT:https://cikm2025.org/
DTSTAMP:20260421T123436
DTSTART;TZID=UTC;VALUE=DATE:20251110
DTEND;TZID=UTC;VALUE=DATE:20251115
SEQUENCE:0
TRANSP:OPAQUE
END:VEVENT
END:VCALENDAR