BEGIN:VCALENDAR
VERSION:2.0
PRODID:-//jEvents 2.0 for Joomla//EN
CALSCALE:GREGORIAN
METHOD:PUBLISH
BEGIN:VEVENT
UID:bdbd68da68832757cadc8fc5dbfd67c0
CATEGORIES:Conference
CREATED:20240913T135040
SUMMARY:Sigweb Conferences - 33rd ACM Conference on User Modeling, Adaptation and Personalization (UMAP 2025)
LOCATION:New York\, USA
DESCRIPTION:ACM UMAP – User Modeling, Adaptation and Personalization – is the premier i
 nternational conference bringing together research in AI and HCI to support
  effective human-AI collaboration via interactive systems that can model, a
 dapt and personalize to their users. The conference is sponsored by ACM SIG
 CHI and SIGWEB.\n
X-ALT-DESC;FMTTYPE=text/html:<p>ACM UMAP – User Modeling, Adaptation and Personalization – is the premie
 r international conference bringing together research in AI and HCI to supp
 ort effective human-AI collaboration via interactive systems that can model
 , adapt and personalize to their users. The conference is sponsored by ACM 
 SIGCHI and SIGWEB.</p>
CONTACT:https://www.um.org/umap2025/
DTSTAMP:20260420T125121
DTSTART;TZID=UTC;VALUE=DATE:20250616
DTEND;TZID=UTC;VALUE=DATE:20250620
SEQUENCE:0
TRANSP:OPAQUE
END:VEVENT
END:VCALENDAR