BEGIN:VCALENDAR
VERSION:2.0
PRODID:-//jEvents 2.0 for Joomla//EN
CALSCALE:GREGORIAN
METHOD:PUBLISH
BEGIN:VEVENT
UID:f6280979268b6b0134553bde0135f8b0
CATEGORIES:in-coop
CREATED:20240722T110014
SUMMARY:Sigweb Conferences -  20th International Conference on Web Information Systems and Technologies (WEBIST 2024)
LOCATION:Porto\, Portugal
DESCRIPTION:The purpose of the International Conference on Web Information Systems and 
 Technologies (WEBIST) is to bring together researchers, engineers and pract
 itioners interested in the technological advances and business applications
  of web-based information systems, covering different aspects of Web Inform
 ation Systems, namely Internet Technology, Web Intelligence and Semantic We
 b, Social Network Analytics, HCI in Mobile Systems and Web Interfaces.\n
X-ALT-DESC;FMTTYPE=text/html:<p><span id="ctl00_pageContent_ctl06_lblScope">The purpose of the Internati
 onal Conference on Web Information Systems and Technologies (WEBIST) is to 
 bring together researchers, engineers and practitioners interested in the t
 echnological advances and business applications of web-based information sy
 stems, covering different aspects of Web Information Systems, namely Intern
 et Technology, Web Intelligence and Semantic Web, Social Network Analytics,
  HCI in Mobile Systems and Web Interfaces.</span></p>
CONTACT:https://webist.scitevents.org/
DTSTAMP:20260420T172855
DTSTART;TZID=UTC;VALUE=DATE:20241117
DTEND;TZID=UTC;VALUE=DATE:20241120
SEQUENCE:0
TRANSP:OPAQUE
END:VEVENT
END:VCALENDAR